BEGIN:VCALENDAR
VERSION:2.0
PRODID:-//Hālau Hula Moaniʻaʻala Anuhea - ECPv6.15.20//NONSGML v1.0//EN
CALSCALE:GREGORIAN
METHOD:PUBLISH
X-WR-CALNAME:Hālau Hula Moaniʻaʻala Anuhea
X-ORIGINAL-URL:https://hulamoani.com
X-WR-CALDESC:Events for Hālau Hula Moaniʻaʻala Anuhea
REFRESH-INTERVAL;VALUE=DURATION:PT1H
X-Robots-Tag:noindex
X-PUBLISHED-TTL:PT1H
BEGIN:VTIMEZONE
TZID:UTC
BEGIN:STANDARD
TZOFFSETFROM:+0000
TZOFFSETTO:+0000
TZNAME:UTC
DTSTART:20240101T000000
END:STANDARD
END:VTIMEZONE
BEGIN:VTIMEZONE
TZID:America/Los_Angeles
BEGIN:DAYLIGHT
TZOFFSETFROM:-0800
TZOFFSETTO:-0700
TZNAME:PDT
DTSTART:20240310T100000
END:DAYLIGHT
BEGIN:STANDARD
TZOFFSETFROM:-0700
TZOFFSETTO:-0800
TZNAME:PST
DTSTART:20241103T090000
END:STANDARD
BEGIN:DAYLIGHT
TZOFFSETFROM:-0800
TZOFFSETTO:-0700
TZNAME:PDT
DTSTART:20250309T100000
END:DAYLIGHT
BEGIN:STANDARD
TZOFFSETFROM:-0700
TZOFFSETTO:-0800
TZNAME:PST
DTSTART:20251102T090000
END:STANDARD
BEGIN:DAYLIGHT
TZOFFSETFROM:-0800
TZOFFSETTO:-0700
TZNAME:PDT
DTSTART:20260308T100000
END:DAYLIGHT
BEGIN:STANDARD
TZOFFSETFROM:-0700
TZOFFSETTO:-0800
TZNAME:PST
DTSTART:20261101T090000
END:STANDARD
END:VTIMEZONE
BEGIN:VEVENT
DTSTART;TZID=UTC:20250802T113000
DTEND;TZID=UTC:20250802T120000
DTSTAMP:20260423T183323
CREATED:20250513T044335Z
LAST-MODIFIED:20250513T044938Z
UID:5420-1754134200-1754136000@hulamoani.com
SUMMARY:Pasadena Public Library End of Summer Reading Bash
DESCRIPTION:Cost: FREE Admission \n\n\n\nSupporting the Pasadena Public Library with their push for keiki reading! Join us for this end of the summer celebration of the joy of books!
URL:https://hulamoani.com/upcoming-event/pasadena-public-library-end-of-summer-reading-bash/
LOCATION:Pasadena Public Library\, Jefferson Branch\, 1500 E Villa Street\, Pasadena\, California\, 91106
ATTACH;FMTTYPE=image/png:https://hulamoani.com/wp-content/uploads/2025/05/Pasadena-Public-Library-Screenshot.png
END:VEVENT
BEGIN:VEVENT
DTSTART;TZID=America/Los_Angeles:20250720T120000
DTEND;TZID=America/Los_Angeles:20250720T124500
DTSTAMP:20260423T183323
CREATED:20250310T070924Z
LAST-MODIFIED:20250310T075217Z
UID:5360-1753012800-1753015500@hulamoani.com
SUMMARY:Alondra Park Hoʻolauleʻa
DESCRIPTION:Festival Dates: Saturday\, July 19 & Sunday\, July 20\, 2025Festival Times: 10:00am – 5:00pm (Sat)\, 9:00am – 4:00pm (Sun)                            Sunday only\, 9:00am Praise & Worship HHMA Show Time: Sunday\, 12 PMCost: FREE AdmissionParking: El Camino College will charge per vehicle\, neighborhood parking is freeOur annual participation in the largest Polynesian festival in Southern California hosted by Hawaiian Inter-Club Council of Southern California
URL:https://hulamoani.com/upcoming-event/alondra-hoolaulea-2025/
LOCATION:Alondra Park\, 3850 Manhattan Beach Blvd\, Lawndale\, CA\, 90260
ATTACH;FMTTYPE=image/jpeg:https://hulamoani.com/wp-content/uploads/2025/03/37C09AD2-A3B2-4DA0-BACB-BE482A5ACD8F_1_105_c.jpeg
END:VEVENT
BEGIN:VEVENT
DTSTART;TZID=UTC:20250629T110000
DTEND;TZID=UTC:20250629T114500
DTSTAMP:20260423T183323
CREATED:20250513T042822Z
LAST-MODIFIED:20250513T045056Z
UID:5414-1751194800-1751197500@hulamoani.com
SUMMARY:Santa Monica Pier Beach 360 Festival
DESCRIPTION:Festival Dates: Saturday\, June 28 & Sunday\, June 29\, 2025Festival Time: Starts at 10 AM   \n\n\n\nHHMA Show Time: Sunday\, 11:00 AM \n\n\n\nCost: FREE Admission \n\n\n\nThis is quickly becoming an annual event for us!  Great entertainment and right on the pier – can’t get much better than that!
URL:https://hulamoani.com/upcoming-event/santa-monica-pier-beach-360-festival/
LOCATION:Santa Monica Pier\, 200 Santa Monica Pier\, Santa Monica\, California\, 90401
ATTACH;FMTTYPE=image/png:https://hulamoani.com/wp-content/uploads/2024/06/SM-Pier-Logo.png
END:VEVENT
BEGIN:VEVENT
DTSTART;TZID=UTC:20250517T113000
DTEND;TZID=UTC:20250517T120000
DTSTAMP:20260423T183323
CREATED:20250513T034043Z
LAST-MODIFIED:20250513T034238Z
UID:5406-1747481400-1747483200@hulamoani.com
SUMMARY:Heritage of Aloha Festival
DESCRIPTION:Festival Dates: Saturday\, May 17 & Sunday\, May 18\, 2025Festival Times: 10:00am – 6:00pm (Sat)\, 10:00am – 5:00pm (Sun)  \n\n\n\nHHMA Show Time: Saturday\, 11:30 AM \n\n\n\nCost: FREE Admission \n\n\n\nWe were invited to participate once again in this wonderful festival. Great entertainment\, ʻono food and choice shopping! Don’t forget the Spam musubi eating contest too!
URL:https://hulamoani.com/upcoming-event/heritage-of-aloha-festival/
LOCATION:Santa Fe Springs Heritage Park\, 12100 Mora Drive\, Santa Fe Springs\, CA\, 90670
ATTACH;FMTTYPE=image/png:https://hulamoani.com/wp-content/uploads/2025/02/2025.png
END:VEVENT
BEGIN:VEVENT
DTSTART;TZID=America/Los_Angeles:20250412T120000
DTEND;TZID=America/Los_Angeles:20250412T124500
DTSTAMP:20260423T183323
CREATED:20250227T071636Z
LAST-MODIFIED:20250310T061103Z
UID:5288-1744459200-1744461900@hulamoani.com
SUMMARY:Monterey Park Cherry Blossom Festival
DESCRIPTION:  \n\n\n\n  \n\n\n\nOur annual performance giving back to our great hometown of Monterey Park! 
URL:https://hulamoani.com/upcoming-event/monterey-park-cherry-blossom-festival-2025/
LOCATION:Barnes Park\, 350 S. McPherrin Avenue\, Monterey Park\, CA\, 91754
ATTACH;FMTTYPE=image/png:https://hulamoani.com/wp-content/uploads/2025/02/2025-2.png
END:VEVENT
END:VCALENDAR